BEGIN:VCALENDAR
VERSION:2.0
PRODID:-//The Kermandie Hotel - ECPv6.15.20//NONSGML v1.0//EN
CALSCALE:GREGORIAN
METHOD:PUBLISH
X-WR-CALNAME:The Kermandie Hotel
X-ORIGINAL-URL:https://www.kermandie.com.au
X-WR-CALDESC:Events for The Kermandie Hotel
REFRESH-INTERVAL;VALUE=DURATION:PT1H
X-Robots-Tag:noindex
X-PUBLISHED-TTL:PT1H
BEGIN:VTIMEZONE
TZID:Australia/Hobart
BEGIN:STANDARD
TZOFFSETFROM:+1100
TZOFFSETTO:+1000
TZNAME:AEST
DTSTART:20210403T160000
END:STANDARD
BEGIN:DAYLIGHT
TZOFFSETFROM:+1000
TZOFFSETTO:+1100
TZNAME:AEDT
DTSTART:20211002T160000
END:DAYLIGHT
BEGIN:STANDARD
TZOFFSETFROM:+1100
TZOFFSETTO:+1000
TZNAME:AEST
DTSTART:20220402T160000
END:STANDARD
BEGIN:DAYLIGHT
TZOFFSETFROM:+1000
TZOFFSETTO:+1100
TZNAME:AEDT
DTSTART:20221001T160000
END:DAYLIGHT
BEGIN:STANDARD
TZOFFSETFROM:+1100
TZOFFSETTO:+1000
TZNAME:AEST
DTSTART:20230401T160000
END:STANDARD
BEGIN:DAYLIGHT
TZOFFSETFROM:+1000
TZOFFSETTO:+1100
TZNAME:AEDT
DTSTART:20230930T160000
END:DAYLIGHT
END:VTIMEZONE
BEGIN:VEVENT
DTSTART;TZID=Australia/Hobart:20220903T173000
DTEND;TZID=Australia/Hobart:20220903T203000
DTSTAMP:20260420T172557
CREATED:20220901T060938Z
LAST-MODIFIED:20220901T060938Z
UID:17917-1662226200-1662237000@www.kermandie.com.au
SUMMARY:Live Dinner Music in the Huon Lounge
DESCRIPTION:– Live music in the Huon Lounge –\n\n\n \n\n\nSaturday 3rd of September we are commencing live instrumental music during our dinner service in the Huon Lounge. \n\n\n \n\n\nThis week we will feature Terry Mead who is a talented local musician. \nHe will serenade you with various musical instruments – as you dine with loved ones. \n\n\n \n\n\n☎ Contact us to make your dinner reservation – 6297 1052
URL:https://www.kermandie.com.au/event/live_dinner_music/
LOCATION:Kermandie Hotel\, 4512/4518 Huon Hwy\, Port Huon\, TAS\, 7116\, Australia
ATTACH;FMTTYPE=image/png:https://www.kermandie.com.au/wp-content/uploads/2022/09/Live-Music-in-restaurant-600-×-496px-website.png
END:VEVENT
END:VCALENDAR